BEGIN:VCALENDAR
VERSION:2.0
PRODID:-//wp-events-plugin.com//7.2.3.1//EN
TZID:Europe/Paris
X-WR-TIMEZONE:Europe/Paris
BEGIN:VEVENT
UID:1-342@ville-fouesnant.fr
DTSTART;TZID=Europe/Paris:20190331T090000
DTEND;TZID=Europe/Paris:20190331T180000
DTSTAMP:20190124T090802Z
URL:https://ville-fouesnant.fr/evenements/troc-puces-2/
SUMMARY:Troc &amp\; puces
DESCRIPTION:Organisé par le jumelage Fouesnant-Meerbusch\, le dimanche 31 
 mars de 9h à 18h à l'Espace Sportif de Bréhoulou.\n\nTarifs : 1\,5€ -
  gratuit pour les moins de 12 ans.\n\nInfos : fouesnant-meerbusch@orange.f
 r
CATEGORIES:Diffusion sur le site mairie
LOCATION:Espace sportif de Bréhoulou\, Rue de Meerbusch\, Fouesnant\, 2917
 0\, France
GEO:47.89172199999999;-4.011379000000034
X-APPLE-STRUCTURED-LOCATION;VALUE=URI;X-ADDRESS=Rue de Meerbusch\, Fouesnan
 t\, 29170\, France;X-APPLE-RADIUS=100;X-TITLE=Espace sportif de Bréhoulou
 :geo:47.89172199999999,-4.011379000000034
END:VEVENT
BEGIN:VTIMEZONE
TZID:Europe/Paris
X-LIC-LOCATION:Europe/Paris
BEGIN:DAYLIGHT
DTSTART:20190331T030000
TZOFFSETFROM:+0100
TZOFFSETTO:+0200
TZNAME:CEST
END:DAYLIGHT
END:VTIMEZONE
END:VCALENDAR