BEGIN:VCALENDAR
VERSION:2.0
PRODID:-//wp-events-plugin.com//7.2.3.1//EN
TZID:Europe/Paris
X-WR-TIMEZONE:Europe/Paris
BEGIN:VEVENT
UID:1-1441@ville-fouesnant.fr
DTSTART;TZID=Europe/Paris:20200809T073000
DTEND;TZID=Europe/Paris:20200809T073000
DTSTAMP:20200729T085518Z
URL:https://ville-fouesnant.fr/evenements/rando-cyclo-des-pommiers/
SUMMARY:Rando cyclo des pommiers
DESCRIPTION:Le Vélo club fouesnantais (VCF) organise une Randonnée des po
 mmiers le dimanche 9 août.\nTrois circuits distincts de 100\, 60 et 30 km
 .
CATEGORIES:Diffusion sur le site mairie
LOCATION:École Kérourgué\, Rue Kerourgué\, Fouesnant 29170\, France
GEO:47.89342084352795;-4.013198358721866
X-APPLE-STRUCTURED-LOCATION;VALUE=URI;X-ADDRESS=Rue Kerourgué\, Fouesnant 
 29170\, France;X-APPLE-RADIUS=100;X-TITLE=École Kérourgué:geo:47.893420
 84352795,-4.013198358721866
END:VEVENT
BEGIN:VTIMEZONE
TZID:Europe/Paris
X-LIC-LOCATION:Europe/Paris
BEGIN:DAYLIGHT
DTSTART:20200329T030000
TZOFFSETFROM:+0100
TZOFFSETTO:+0200
TZNAME:CEST
END:DAYLIGHT
END:VTIMEZONE
END:VCALENDAR