BEGIN:VCALENDAR
VERSION:2.0
PRODID:-//wp-events-plugin.com//7.2.3.1//EN
TZID:Europe/Paris
X-WR-TIMEZONE:Europe/Paris
BEGIN:VEVENT
UID:1-523@ville-fouesnant.fr
DTSTART;TZID=Europe/Paris:20190531T203000
DTEND;TZID=Europe/Paris:20190531T223000
DTSTAMP:20190429T113422Z
URL:https://ville-fouesnant.fr/evenements/lecho-des-vagues-et-resonnance/
SUMMARY:L'écho des vagues et résonnance
DESCRIPTION:C'est un concert organisé par le Choeur du Pays Fouesnantais.\
 n\n&nbsp\;\n\n&nbsp\;\n\n&nbsp\;
CATEGORIES:Diffusion sur le site mairie
LOCATION:Chapelle Saint-Guénolé\, Beg-Meil\, fouesnant\, France
GEO:47.85706099999999;-3.982299000000012
X-APPLE-STRUCTURED-LOCATION;VALUE=URI;X-ADDRESS=Beg-Meil\, fouesnant\, Fran
 ce;X-APPLE-RADIUS=100;X-TITLE=Chapelle Saint-Guénolé:geo:47.857060999999
 99,-3.982299000000012
END:VEVENT
BEGIN:VTIMEZONE
TZID:Europe/Paris
X-LIC-LOCATION:Europe/Paris
BEGIN:DAYLIGHT
DTSTART:20190331T030000
TZOFFSETFROM:+0100
TZOFFSETTO:+0200
TZNAME:CEST
END:DAYLIGHT
END:VTIMEZONE
END:VCALENDAR