BEGIN:VCALENDAR
VERSION:2.0
PRODID:-//wp-events-plugin.com//7.2.3.1//EN
TZID:Europe/Paris
X-WR-TIMEZONE:Europe/Paris
BEGIN:VEVENT
UID:1-366@ville-fouesnant.fr
DTSTART;TZID=Europe/Paris;VALUE=DATE:20190402
DTEND;TZID=Europe/Paris;VALUE=DATE:20190403
DTSTAMP:20190314T081252Z
URL:https://ville-fouesnant.fr/evenements/journee-mondiale-de-lautisme/
SUMMARY:Journée mondiale de l'autisme
DESCRIPTION:Le 2 avril a lieu la Journée mondiale de sensibilisation à l
 ’autisme. Elle vise à mieux informer le grand public sur les réalités
  de ce trouble du développement.
CATEGORIES:Diffusion sur le site mairie
END:VEVENT
BEGIN:VTIMEZONE
TZID:Europe/Paris
X-LIC-LOCATION:Europe/Paris
BEGIN:DAYLIGHT
DTSTART:20190331T030000
TZOFFSETFROM:+0100
TZOFFSETTO:+0200
TZNAME:CEST
END:DAYLIGHT
END:VTIMEZONE
END:VCALENDAR