BEGIN:VCALENDAR
VERSION:2.0
PRODID:-//wp-events-plugin.com//7.2.3.1//EN
TZID:Europe/Paris
X-WR-TIMEZONE:Europe/Paris
BEGIN:VEVENT
UID:1-289@ville-fouesnant.fr
DTSTART;TZID=Europe/Paris:20181113T193000
DTEND;TZID=Europe/Paris:20181113T223000
DTSTAMP:20200124T124309Z
URL:https://ville-fouesnant.fr/evenements/conseil-municipal-13-novembre-20
 18/
SUMMARY:Conseil municipal 13 novembre 2018
DESCRIPTION:Approbation du compte rendu du conseil municipal du 22 octobre 
 2018\n\n&nbsp\;\nFINANCES – ADMINISTRATION GÉNÉRALE\nBudget principa
 l 2018 – décision modificative n°3 budget commune\n\n&nbsp\;\nFAMILL
 E – ÉDUCATION – JEUNESSE\nConvention territoriale globale 2018-2021\n
 \n&nbsp\;\nCADRE DE VIE - TRAVAUX\nModification de l’attribution de comp
 ensation versée par la Communauté de Communes du Pays Fouesnantais
CATEGORIES:Conseils municipaux,Diffusion sur le site mairie
LOCATION:Salle du Conseil municipal\, Mairie - Place du Général de Gaulle
 \, Fouesnant 29170\, France
GEO:47.8944566;-4.012235700000019
X-APPLE-STRUCTURED-LOCATION;VALUE=URI;X-ADDRESS=Mairie - Place du Général
  de Gaulle\, Fouesnant 29170\, France;X-APPLE-RADIUS=100;X-TITLE=Salle du 
 Conseil municipal:geo:47.8944566,-4.012235700000019
END:VEVENT
BEGIN:VTIMEZONE
TZID:Europe/Paris
X-LIC-LOCATION:Europe/Paris
BEGIN:STANDARD
DTSTART:20181028T020000
TZOFFSETFROM:+0200
TZOFFSETTO:+0100
TZNAME:CET
END:STANDARD
END:VTIMEZONE
END:VCALENDAR